BEGIN:VCALENDAR
BEGIN:VEVENT
SUMMARY:Medeski #3/4: DUO (John Medeski & Ikue Mori) [nycnoise]
DTSTART:20251025T003000Z
DTEND:20251025T013000Z
UID:631c0086-738c-4e20-b604-c9af85ee7e3f
CREATED:20260420T145411Z
DESCRIPTION:
LOCATION:stone (55 w. 13th st.\, manhattan)
END:VEVENT
END:VCALENDAR
