BEGIN:VCALENDAR
BEGIN:VEVENT
SUMMARY:Dresser #2/4: TRIO M (Myra Melford\, Matt Wilson\, Mark Dresser) [
 nycnoise]
DTSTART:20251031T003000Z
DTEND:20251031T013000Z
UID:44e966b5-9cd6-4191-be76-5381918ac07d
CREATED:20260420T145143Z
DESCRIPTION:
LOCATION:stone (55 w. 13th st.\, manhattan)
END:VEVENT
END:VCALENDAR
