BEGIN:VCALENDAR
BEGIN:VEVENT
SUMMARY:Dresser #3/4: QUARTET (Amir El Saffar\, Alec Goldfarb\, Michael Sa
 rin\, Mark Dresser) [nycnoise]
DTSTART:20251101T003000Z
DTEND:20251101T013000Z
UID:dea42799-8371-4f4e-b780-eb5d452c2162
CREATED:20260420T145454Z
DESCRIPTION:
LOCATION:stone (55 w. 13th st.\, manhattan)
END:VEVENT
END:VCALENDAR
