BEGIN:VCALENDAR
BEGIN:VEVENT
SUMMARY:Schechter #1/4: Darshan (Basya Schechter & Eden Pearlstein) [nycno
 ise]
DTSTART:20251106T013000Z
DTEND:20251106T023000Z
UID:f50726fc-7397-4659-81f6-f79b71afed29
CREATED:20260425T203828Z
DESCRIPTION:w/ Shai Wetzer\, Yoshie Fruchter\, Micha Gilad\, Shanir Blumen
 kranz\, Eleonore Weill\, Chaia Berman Peters
LOCATION:stone (55 w. 13th st.\, manhattan)
END:VEVENT
END:VCALENDAR
