BEGIN:VCALENDAR
BEGIN:VEVENT
SUMMARY:Schechter #2/4: Khumesh Lider (Avi Fox-Rosen & Basya Schechter) [n
 ycnoise]
DTSTART:20251107T013000Z
DTEND:20251107T023000Z
UID:37bf14e6-bdc1-4a7d-b21b-ab0d4c2b801e
CREATED:20260425T204012Z
DESCRIPTION:w/ Yoshie Fruchter\, Eleonore Weill\, Chaia Berman Peters\, Sh
 ai Wetzer
LOCATION:stone (55 w. 13th st.\, manhattan)
END:VEVENT
END:VCALENDAR
