BEGIN:VCALENDAR
BEGIN:VEVENT
SUMMARY:Schechter #3/4: Meg Okura Project (w/ Sam Newsome\, Angelica Sanch
 ez) [nycnoise]
DTSTART:20251108T013000Z
DTEND:20251108T023000Z
UID:f7eb213d-53b2-459b-946d-04b060bb8c1a
CREATED:20260425T204013Z
DESCRIPTION:
LOCATION:stone (55 w. 13th st.\, manhattan)
END:VEVENT
END:VCALENDAR
