BEGIN:VCALENDAR
BEGIN:VEVENT
SUMMARY:Schechter #4/4: Kabbalah Kirtan (Basya Schechter\, Deep Singh\, Je
 ssica Lurie\, special guests) [nycnoise]
DTSTART:20251109T013000Z
DTEND:20251109T023000Z
UID:9d6ab56d-3631-4411-a0a0-5461fa9b3af0
CREATED:20260425T203630Z
DESCRIPTION:
LOCATION:stone (55 w. 13th st.\, manhattan)
END:VEVENT
END:VCALENDAR
