BEGIN:VCALENDAR
BEGIN:VEVENT
SUMMARY:Brennan #3/4: TRIO (Patricia Brennan\, Kim Cass\, Noel Brennan) [n
 ycnoise]
DTSTART:20251115T013000Z
DTEND:20251115T023000Z
UID:20a0f7db-8a4b-4565-87eb-0b041f6b9408
CREATED:20260425T203831Z
DESCRIPTION:
LOCATION:stone (55 w. 13th st.\, manhattan)
END:VEVENT
END:VCALENDAR
