BEGIN:VCALENDAR
BEGIN:VEVENT
SUMMARY:London #1/4: Conspiracy Brass (Frank London\, Marcus Rojas\, Josh 
 Roseman\, Onel Matos\, Javier Diaz) [nycnoise]
DTSTART:20251120T013000Z
DTEND:20251120T023000Z
UID:b81dccb1-b6ba-4307-af71-1c1e2a10d42e
CREATED:20260425T203702Z
DESCRIPTION:
LOCATION:stone (55 w. 13th st.\, manhattan)
END:VEVENT
END:VCALENDAR
