BEGIN:VCALENDAR
BEGIN:VEVENT
SUMMARY:London #2/4: Frank London: Loisaida Fife & Drum Corp [nycnoise]
DTSTART:20251121T013000Z
DTEND:20251121T023000Z
UID:4f54143c-6169-4dfd-8719-392fc77d4b2c
CREATED:20260425T203703Z
DESCRIPTION:w/ Elijah Thomas\, Ron Caswell\, Charles Burnham\, Reut Regev\
 , Satoshi Takaeshi\, Brian Chase
LOCATION:stone (55 w. 13th st.\, manhattan)
END:VEVENT
END:VCALENDAR
