BEGIN:VCALENDAR
BEGIN:VEVENT
SUMMARY:Winant #1/4: TRIO (William Winant\, Bill Nace\, Nava Dunkelman) [n
 ycnoise]
DTSTART:20251204T013000Z
DTEND:20251204T023000Z
UID:9d2fdc66-83db-4254-b224-dfe307eb52fb
CREATED:20260425T184106Z
DESCRIPTION:
LOCATION:stone (55 w. 13th st.\, manhattan)
END:VEVENT
END:VCALENDAR
