BEGIN:VCALENDAR
BEGIN:VEVENT
SUMMARY:Winant #2/4: SPECIAL PERCUSSION GROUP (Wiliam Winant\, Kenny Wolle
 sen\, Will Shore) [nycnoise]
DTSTART:20251205T013000Z
DTEND:20251205T023000Z
UID:4ee43b4c-4569-4f35-8cb6-2e3944cf767f
CREATED:20260425T183831Z
DESCRIPTION:
LOCATION:stone (55 w. 13th st.\, manhattan)
END:VEVENT
END:VCALENDAR
