BEGIN:VCALENDAR
BEGIN:VEVENT
SUMMARY:Winant #3/4: DUO (Wiliam Winant & Zeena Parkins) [nycnoise]
DTSTART:20251206T013000Z
DTEND:20251206T023000Z
UID:d4b2b3a4-7765-483b-b39b-22f2081d2934
CREATED:20260425T183803Z
DESCRIPTION:
LOCATION:stone (55 w. 13th st.\, manhattan)
END:VEVENT
END:VCALENDAR
