BEGIN:VCALENDAR
BEGIN:VEVENT
SUMMARY:Winant #4/4: WHITE OUT WITH WILLIAM WINANT (Winant\, Lin Culbertso
 n\, Tom Surgal) [nycnoise]
DTSTART:20251207T013000Z
DTEND:20251207T023000Z
UID:30f102e6-654a-4003-a3c8-2e6df2bc6759
CREATED:20260425T183832Z
DESCRIPTION:
LOCATION:stone (55 w. 13th st.\, manhattan)
END:VEVENT
END:VCALENDAR
