BEGIN:VCALENDAR
BEGIN:VEVENT
SUMMARY:Mori #2/4: QUARTET (Ikue Mori\, Ken Vandermark\, Nate Wooley\, Syl
 vie Courvoisier) [nycnoise]
DTSTART:20251212T013000Z
DTEND:20251212T023000Z
UID:dc5980ca-ec5b-442d-a6ba-dcef9626906b
CREATED:20260425T184111Z
DESCRIPTION:
LOCATION:stone (55 w. 13th st.\, manhattan)
END:VEVENT
END:VCALENDAR
