BEGIN:VCALENDAR
BEGIN:VEVENT
SUMMARY:Vortex ACTIVATION: Black Quantum Futurism (w/ Melanie Dyer\, Tches
 er Holmes) [nycnoise]
DTSTART:20250920T233000Z
DTEND:20250921T003000Z
UID:af7ffbe2-cadd-4dcb-80fe-80f44908481e
CREATED:20260420T163208Z
DESCRIPTION:ticket link asap
LOCATION:performance space (150 1st ave (at 9th st.)\, 4th fl.\, manhattan
 )
END:VEVENT
END:VCALENDAR
