BEGIN:VCALENDAR
BEGIN:VEVENT
SUMMARY:Luke Stewart & Kayla Farrish: 'The Portal' [nycnoise]
DTSTART:20251211T000000Z
DTEND:20251211T010000Z
UID:f81255d1-8198-4b75-af50-e843ad714f8d
CREATED:20260425T183933Z
DESCRIPTION:ticket link asap
LOCATION:performance space (150 1st ave (at 9th st.)\, 4th fl.\, manhattan
 )
END:VEVENT
END:VCALENDAR
