BEGIN:VCALENDAR
BEGIN:VEVENT
SUMMARY:HxH (Chris Williams & Lester St. Louis): 'STARK PHENOMENA' [nycnoi
 se]
DTSTART:20260212T010000Z
DTEND:20260212T020000Z
UID:df39b6ae-1cc1-4584-b058-725b18a98cbf
CREATED:20260425T144940Z
DESCRIPTION:ticket link asap
LOCATION:performance space (150 1st ave (at 9th st.)\, 4th fl.\, manhattan
 )
END:VEVENT
END:VCALENDAR
