BEGIN:VCALENDAR
BEGIN:VEVENT
SUMMARY:Crazy Chariot Men\, Onward Debacle (solo)\, Modern Silent Cinema [
 nycnoise]
DTSTART:20250822T230000Z
DTEND:20250823T000000Z
UID:3b89bf01-4d04-4249-b092-8a25ba126dbd
CREATED:20260420T145138Z
DESCRIPTION:
LOCATION:antidote outpost apothecary (381 McGuinness Blvd\, Brooklyn\, NY 
 11222)
END:VEVENT
END:VCALENDAR
