BEGIN:VCALENDAR
BEGIN:VEVENT
SUMMARY:Death Drive\, swimteam VHS\, Wild Once\, Seraphine's Cleaver [nycn
 oise]
DTSTART:20250907T230000Z
DTEND:20250908T000000Z
UID:96cf5b7c-c754-4337-aae4-f0a5e1f69cea
CREATED:20260420T163206Z
DESCRIPTION:6:30pm doors
LOCATION:arlene's grocery (95 stanton st.\, manhattan)
END:VEVENT
END:VCALENDAR
