BEGIN:VCALENDAR
BEGIN:VEVENT
SUMMARY:Nate Rappaport’s Primordial Sessions (ft. Ariell Bitton\, Jack K
 aiser) [nycnoise]
DTSTART:20250817T230000Z
DTEND:20250818T000000Z
UID:2c337c54-b880-4d16-a795-8cc38b7549df
CREATED:20260420T145418Z
DESCRIPTION:
LOCATION:big bar (75 E 7th St\, New York\, NY 10003)
END:VEVENT
END:VCALENDAR
