BEGIN:VCALENDAR
BEGIN:VEVENT
SUMMARY:Assembly No. 29: Caroline Morton / Josh Matthews / Hans Young Bint
 er\, LSTR (DJ)\, We Were Here Before (Mark Cisneros\, Luke Stewart\, Nik F
 rancis)\, Chris Ryan Williams [nycnoise]
DTSTART:20250820T000000Z
DTEND:20250820T010000Z
UID:2481e5b9-af51-4084-b793-04c26950b175
CREATED:20260420T145141Z
DESCRIPTION:assembly curated by lester st. louis &amp\; luke stewart
LOCATION:sisters (900 fulton st.\, brooklyn)
END:VEVENT
END:VCALENDAR
