BEGIN:VCALENDAR
BEGIN:VEVENT
SUMMARY:Son Estrella Galicia Presents: Still House Plants\, Pink Must [nyc
 noise]
DTSTART:20250821T020000Z
DTEND:20250821T030000Z
UID:2050c367-125d-4ca8-b319-becc82628da1
CREATED:20260420T145418Z
DESCRIPTION:9:30pm doors
LOCATION:night club 101 (101 avenue a\, manhattan)
END:VEVENT
END:VCALENDAR
