BEGIN:VCALENDAR
BEGIN:VEVENT
SUMMARY:Bodies Against the Gears / ICE Watch Fundraiser: Blackberry Knuckl
 eduster\, Refractory Period\, Karina Ordòñez\, Dot Persica\, Refractory 
 Period\, Heretic & the Weasel\, Poison Oak\, Regeneration Metal\, DJ Pop T
 rash [nycnoise]
DTSTART:20250824T000000Z
DTEND:20250824T010000Z
UID:3ee5522f-dfb9-40ae-b438-a4f8b7ac65e5
CREATED:20260420T145135Z
DESCRIPTION:7pm doors\; "to help support @nycicewatch a grassroots org doi
 ng the work on the ground to help keep NYC communities safe"
LOCATION:nyc resistor (87 3rd Ave\, Brooklyn\, NY 11217)
END:VEVENT
END:VCALENDAR
