BEGIN:VCALENDAR
BEGIN:VEVENT
SUMMARY:Nate Wooley\, Sara Schoenbeck\, Nick Neuberg\, Angela Sawyer [nycn
 oise]
DTSTART:20250914T000000Z
DTEND:20250914T010000Z
UID:eecaf1c1-6f63-4f27-b130-7f7b295bae46
CREATED:20260420T163135Z
DESCRIPTION:venmo for entry\,&nbsp\;flyer
LOCATION:angtoriaville
END:VEVENT
END:VCALENDAR
