BEGIN:VCALENDAR
BEGIN:VEVENT
SUMMARY:Ladiez Drink Free presents: NAP\, DAY/DEM [nycnoise]
DTSTART:20250824T020000Z
DTEND:20250824T030000Z
UID:2aa66f8d-199d-44c3-90d9-c7644f2e7c33
CREATED:20260420T145142Z
DESCRIPTION:
LOCATION:bossa nova civic club (1271 myrtle ave\, brooklyn)
END:VEVENT
END:VCALENDAR
