BEGIN:VCALENDAR
BEGIN:VEVENT
SUMMARY:Dylan DelGiudice / Kenny Mattuci / Marc Edwards\, Gían Pérez & B
 uz Donald\, Mo Kubbara [nycnoise]
DTSTART:20250904T230000Z
DTEND:20250905T000000Z
UID:32c455de-8049-44cf-be92-15016f4bf95b
CREATED:20260420T163130Z
DESCRIPTION:
LOCATION:brothers wash & dry laundromat (5420 nurge ave\, queens)
END:VEVENT
END:VCALENDAR
