BEGIN:VCALENDAR
BEGIN:VEVENT
SUMMARY:1Alkebulan\, Big Flowers\, Dena Igusti\, Hester Valentine\, Libby 
 Quinn [nycnoise]
DTSTART:20250911T220000Z
DTEND:20250911T230000Z
UID:2df87e1e-b399-44e9-a8bf-62ffba065727
CREATED:20260420T163138Z
DESCRIPTION:5:30pm doors
LOCATION:brothers wash & dry laundromat (5420 nurge ave\, queens)
END:VEVENT
END:VCALENDAR
