BEGIN:VCALENDAR
BEGIN:VEVENT
SUMMARY:Ivan Cunningham / Nicholas Christenson / Orchid McRae\, Kwami Winf
 ield / Nathan Chamberlain / Paul Sakai / Josh Mathews [nycnoise]
DTSTART:20250906T230000Z
DTEND:20250907T000000Z
UID:f41fa06c-35c5-43ee-8d2c-4fcf7b8e512d
CREATED:20260420T163209Z
DESCRIPTION:
LOCATION:brothers wash & dry laundromat (5420 nurge ave\, queens)
END:VEVENT
END:VCALENDAR
