BEGIN:VCALENDAR
BEGIN:VEVENT
SUMMARY:Dorothy Carlos\, Bentley Anderson\, Theodore Cale Schafer [nycnois
 e]
DTSTART:20250910T230000Z
DTEND:20250911T000000Z
UID:9d47f30b-17ff-4543-ac86-952c9b5f1fc6
CREATED:20260420T163210Z
DESCRIPTION:link to flyer
LOCATION:brothers wash & dry laundromat (5420 nurge ave\, queens)
END:VEVENT
END:VCALENDAR
