BEGIN:VCALENDAR
BEGIN:VEVENT
SUMMARY:Solos & Quartet: Stan Zenkov\, Brenna Rey\, Francesca H.\, Dylan D
 elGiudice [nycnoise]
DTSTART:20250919T230000Z
DTEND:20250920T000000Z
UID:48440411-46e6-4ac7-a590-941a38cf2a83
CREATED:20260420T163137Z
DESCRIPTION:
LOCATION:brothers wash & dry laundromat (5420 nurge ave\, queens)
END:VEVENT
END:VCALENDAR
