BEGIN:VCALENDAR
BEGIN:VEVENT
SUMMARY:TBA [nycnoise]
DTSTART:20250920T230000Z
DTEND:20250921T000000Z
UID:e9342098-fbff-4c36-8ee1-6fd4aebc5728
CREATED:20260420T163235Z
DESCRIPTION:lineup asap (submit info)
LOCATION:brothers wash & dry laundromat (5420 nurge ave\, queens)
END:VEVENT
END:VCALENDAR
