BEGIN:VCALENDAR
BEGIN:VEVENT
SUMMARY:exoskeleton 14: orchiddBB\, Caylie Davis / Selendis Sebastian Alex
 ander Johnson / Shogo Yamagishi\, Jamie Weil [nycnoise]
DTSTART:20250921T230000Z
DTEND:20250922T000000Z
UID:15037cd2-0d98-41ce-841e-228df906632a
CREATED:20260420T163208Z
DESCRIPTION:orchiddBB: Jen Sapiro\, Vivek Menon\, Hans Young Binter\, Mari
 o Fontes\, Orchid McRae
LOCATION:brothers wash & dry laundromat (5420 nurge ave\, queens)
END:VEVENT
END:VCALENDAR
