BEGIN:VCALENDAR
BEGIN:VEVENT
SUMMARY:LoomTone Open Studio: Works by Katie Webster & Miranda Agnew (ft. 
 Ariel Vera\, Rocío Sánchez\, David Macchione\, Alex Yoo) [nycnoise]
DTSTART:20250923T230000Z
DTEND:20250924T000000Z
UID:3177c093-6755-4768-a46f-2d522866cf9e
CREATED:20260420T163211Z
DESCRIPTION:
LOCATION:brothers wash & dry laundromat (5420 nurge ave\, queens)
END:VEVENT
END:VCALENDAR
