BEGIN:VCALENDAR
BEGIN:VEVENT
SUMMARY:AJ / Caroline Morton / Josh Matthews\, Hans Young Binter\, Stan Ze
 nkov / Rocío Sánchez / Orchid McRae [nycnoise]
DTSTART:20251001T230000Z
DTEND:20251002T000000Z
UID:ae445234-5f7b-4e18-b609-89905d65afef
CREATED:20260420T145204Z
DESCRIPTION:
LOCATION:brothers wash & dry laundromat (5420 nurge ave\, queens)
END:VEVENT
END:VCALENDAR
