BEGIN:VCALENDAR
BEGIN:VEVENT
SUMMARY:Immanuel J Presents Birdsong Blues [nycnoise]
DTSTART:20250830T000000Z
DTEND:20250830T010000Z
UID:51f1274f-009d-47f6-b7e0-a186287ecb58
CREATED:20260420T145200Z
DESCRIPTION:7:30pm doors
LOCATION:intercomm (584 Woodward Ave\, Ridgewood\, NY 11385)
END:VEVENT
END:VCALENDAR
