BEGIN:VCALENDAR
BEGIN:VEVENT
SUMMARY:Center For Psychic Technology Presents: Masma Dream World\, Harpy\
 , Dreamcrusher\, Speaker Music [nycnoise]
DTSTART:20250919T230000Z
DTEND:20250920T000000Z
UID:1994f6c8-77bb-4a59-a7cc-95890ebfc66d
CREATED:20260420T163138Z
DESCRIPTION:
LOCATION:intercomm (584 Woodward Ave\, Ridgewood\, NY 11385)
END:VEVENT
END:VCALENDAR
