BEGIN:VCALENDAR
BEGIN:VEVENT
SUMMARY:Sway Day: Taurus Moon (jo_sway b2b purp)\, Bodega Party\, Sudden D
 eath (&more b2b Nymphostar)\, Cartier b2b Jonquar\, Xana 101\, NoahG b2b L
 onchi [nycnoise]
DTSTART:20250825T020000Z
DTEND:20250825T030000Z
UID:e7dc7b44-1e71-4791-8d3c-912fa7c359e4
CREATED:20260420T145212Z
DESCRIPTION:
LOCATION:bossa nova civic club (1271 myrtle ave\, brooklyn)
END:VEVENT
END:VCALENDAR
