BEGIN:VCALENDAR
BEGIN:VEVENT
SUMMARY:John Dorney\, Postmark\, Simon Hanes\, Hannah Lee Thompson [nycnoi
 se]
DTSTART:20250911T233000Z
DTEND:20250912T003000Z
UID:8fed683d-4f1a-4a95-aa50-3bd5b95833c6
CREATED:20260420T163249Z
DESCRIPTION:
LOCATION:cassette (68-38 forest ave bsmt\, ridgewood)
END:VEVENT
END:VCALENDAR
