BEGIN:VCALENDAR
BEGIN:VEVENT
SUMMARY:Caley Conway\, Dump (James McNew)\, Jasper Jones [nycnoise]
DTSTART:20250919T233000Z
DTEND:20250920T003000Z
UID:5256d10a-f516-46f5-a963-1e01c0506c98
CREATED:20260420T163319Z
DESCRIPTION:
LOCATION:cassette (68-38 forest ave bsmt\, ridgewood)
END:VEVENT
END:VCALENDAR
