BEGIN:VCALENDAR
BEGIN:VEVENT
SUMMARY:Zoh Amba\, Jake McKelvie\, Michael Martin Doherty [nycnoise]
DTSTART:20251009T233000Z
DTEND:20251010T003000Z
UID:c3c1d97a-5440-453c-b74c-b496ea51dc08
CREATED:20260420T145214Z
DESCRIPTION:
LOCATION:cassette (68-38 forest ave bsmt\, ridgewood)
END:VEVENT
END:VCALENDAR
