BEGIN:VCALENDAR
BEGIN:VEVENT
SUMMARY:Laura Galindo\, Hello World\, Fish Hunt [nycnoise]
DTSTART:20250826T000000Z
DTEND:20250826T010000Z
UID:81e7c314-2340-41a7-a802-ea19796a2210
CREATED:20260420T145250Z
DESCRIPTION:7:30pm doors
LOCATION:cassette (68-38 forest ave bsmt\, ridgewood)
END:VEVENT
END:VCALENDAR
