BEGIN:VCALENDAR
BEGIN:VEVENT
SUMMARY:Leslie Graves & Toby Goodshank\, Anni Rossi\, Laura Loriga\, Ofir 
 Ganon [nycnoise]
DTSTART:20250901T233000Z
DTEND:20250902T003000Z
UID:b49eceb1-466c-451a-9d9a-754930ed3097
CREATED:20260420T163505Z
DESCRIPTION:
LOCATION:cassette (68-38 forest ave bsmt\, ridgewood)
END:VEVENT
END:VCALENDAR
