BEGIN:VCALENDAR
BEGIN:VEVENT
SUMMARY:Festival Of New Trumpet Music: Michael Sarian’s ESQUINA\, Palmed
 o Philips [nycnoise]
DTSTART:20250910T233000Z
DTEND:20250911T003000Z
UID:5e3f90e8-7929-4358-8b6a-faab3b7e2d05
CREATED:20260420T163129Z
DESCRIPTION:7pm doors
LOCATION:public records' sound room (233 butler st.\, brooklyn)
END:VEVENT
END:VCALENDAR
