BEGIN:VCALENDAR
BEGIN:VEVENT
SUMMARY:Hand Habits\, more eaze [nycnoise]
DTSTART:20250919T233000Z
DTEND:20250920T003000Z
UID:015a355d-f38d-4e2c-8cb7-42b7dcd97171
CREATED:20260420T163135Z
DESCRIPTION:7pm doors
LOCATION:public records' sound room (233 butler st.\, brooklyn)
END:VEVENT
END:VCALENDAR
