BEGIN:VCALENDAR
BEGIN:VEVENT
SUMMARY:John Prine Tribute for Gaza [nycnoise]
DTSTART:20250825T000000Z
DTEND:20250825T010000Z
UID:939a0873-afc3-4b27-b3dc-7c03fbc1cb1d
CREATED:20260420T145543Z
DESCRIPTION:🇵🇸 "All proceeds go to helping the people of Gaza via Th
 e Sameer Project" (zoom in on tiny print\; 101\, u can say "gaza"!)
LOCATION:night club 101 (101 avenue a\, manhattan)
END:VEVENT
END:VCALENDAR
