BEGIN:VCALENDAR
BEGIN:VEVENT
SUMMARY:Indie Rockers for Zohran x Migrants x Gaza [nycnoise]
DTSTART:20250901T233000Z
DTEND:20250902T003000Z
UID:0d03a52d-8519-48dc-944b-deb6c546a879
CREATED:20260420T163341Z
DESCRIPTION:🇵🇸 proceeds "split between New Yorkers for Lower Costs (
 the official Zohran Mamdani support PAC)\, NYC Migrant Solidarity\, &amp\;
  the Sameer Project"\; Palehound\, Katy Kirby\, S.3.R.\, Kierst\, Sofia Wo
 lfson\, Tracey Nelson\, thanks for coming\; hosted by Will Menaker
LOCATION:night club 101 (101 avenue a\, manhattan)
END:VEVENT
END:VCALENDAR
