BEGIN:VCALENDAR
BEGIN:VEVENT
SUMMARY:Indie Rockers for Zohran x Migrants x Gaza [nycnoise]
DTSTART:20250825T230000Z
DTEND:20250826T000000Z
UID:57bb55b9-c4de-49a9-9def-e0c02e6a941a
CREATED:20260420T145138Z
DESCRIPTION:🇵🇸 proceeds "split between New Yorkers for Lower Costs (
 the official Zohran Mamdani support PAC)\, NYC Migrant Solidarity\, &amp\;
  the Sameer Project"\; GIFT\, Brutus VIII\, Sweet Baby Jesus\, Liam Kazar
LOCATION:tv eye (1647 Weirfield St\, Ridgewood\, NY 11385)
END:VEVENT
END:VCALENDAR
