BEGIN:VCALENDAR
BEGIN:VEVENT
SUMMARY:Musicians For Musicians 10 Years [nycnoise]
DTSTART:20250906T013000Z
DTEND:20250906T023000Z
UID:d28e0831-47ad-49d6-9bd5-ccaae0b8a9dd
CREATED:20260420T163130Z
DESCRIPTION:MFM Unity Ensemble (ft. Joe Lovano\, Arturo O&rsquo\;Farrill)\
 , SoSaLa
LOCATION:cutting room (44 E 32nd St\, New York\, NY 10016)
END:VEVENT
END:VCALENDAR
