BEGIN:VCALENDAR
BEGIN:VEVENT
SUMMARY:Festival Of New Trumpet Music [nycnoise]
DTSTART:20250908T230000Z
DTEND:20250909T000000Z
UID:07c5d518-a138-48d5-8ecf-35027755ea24
CREATED:20260420T163129Z
DESCRIPTION:Frank London&rsquo\;s Conspiracy Brass\, Steven Bernstein&rsqu
 o\;s ResoNation Trio
LOCATION:nublu 151 (151 ave c\, manhattan)
END:VEVENT
END:VCALENDAR
